BEGIN:VCALENDAR
VERSION:2.0
PRODID:-//Cyber Security Cluster Bonn e.V.  - ECPv6.15.20//NONSGML v1.0//EN
CALSCALE:GREGORIAN
METHOD:PUBLISH
X-WR-CALNAME:Cyber Security Cluster Bonn e.V. 
X-ORIGINAL-URL:https://cyber-security-cluster.eu
X-WR-CALDESC:Veranstaltungen für Cyber Security Cluster Bonn e.V. 
REFRESH-INTERVAL;VALUE=DURATION:PT1H
X-Robots-Tag:noindex
X-PUBLISHED-TTL:PT1H
BEGIN:VTIMEZONE
TZID:Europe/Berlin
BEGIN:DAYLIGHT
TZOFFSETFROM:+0100
TZOFFSETTO:+0200
TZNAME:CEST
DTSTART:20250330T010000
END:DAYLIGHT
BEGIN:STANDARD
TZOFFSETFROM:+0200
TZOFFSETTO:+0100
TZNAME:CET
DTSTART:20251026T010000
END:STANDARD
BEGIN:DAYLIGHT
TZOFFSETFROM:+0100
TZOFFSETTO:+0200
TZNAME:CEST
DTSTART:20260329T010000
END:DAYLIGHT
BEGIN:STANDARD
TZOFFSETFROM:+0200
TZOFFSETTO:+0100
TZNAME:CET
DTSTART:20261025T010000
END:STANDARD
BEGIN:DAYLIGHT
TZOFFSETFROM:+0100
TZOFFSETTO:+0200
TZNAME:CEST
DTSTART:20270328T010000
END:DAYLIGHT
BEGIN:STANDARD
TZOFFSETFROM:+0200
TZOFFSETTO:+0100
TZNAME:CET
DTSTART:20271031T010000
END:STANDARD
END:VTIMEZONE
BEGIN:VEVENT
DTSTART;TZID=Europe/Berlin:20260505T180000
DTEND;TZID=Europe/Berlin:20260505T210000
DTSTAMP:20260424T144010
CREATED:20260407T094154Z
LAST-MODIFIED:20260407T094327Z
UID:11947-1778004000-1778014800@cyber-security-cluster.eu
SUMMARY:Cyber Security Meetup
DESCRIPTION:Tauche ein in die Welt der Cybersicherheit! \nDu bist fasziniert von Cyber Security und Gründungen? Du hast vielleicht sogar ein eigenes Cyber Security-Startup? Dann komm zu unserem Cyber Security Meetup! \nHier kannst du nicht nur spannende Kontakte knüpfen\, sondern auch von Experten lernen und tiefer in das Thema eintauchen. \nBenjamin Koltermann hält einen interessanten Vortrag über das Thema „ECSC 2026 – Europas Cyber-Talente zu Gast in Bochum“ \nDie European Cybersecurity Challenge (ECSC) ist der größte europaweite Wettbewerb für junge IT-Sicherheitstalente\, bei dem jährlich über 30.000 Teilnehmende in den nationalen Vorentscheiden um die Qualifikation kämpfen. Im Jahr 2026 findet das Finale im RuhrCongress Bochum statt und bringt die rund 40 Nationalteams\, darunter auch Gastländer\, inklusive ihrer Trainer und Betreuer in Deutschland zusammen. Das Ziel der Initiative ist es\, technisches Fachwissen in Capture-the-Flag Challenges zu fördern und eine direkte Brücke zwischen den europäischen Talenten und der Industrie zu schlagen. Als diesjähriger Organisator gestalten wir damit eine Plattform für internationalen Austausch\, die den Grundstein für die nächste Generation europäischer Cybersicherheitsexperten legt. \nZusätzlich gibt es ein interessanten Pitch inklusive kleine Spielerund von „What the Hack„. \n💡 Bonus für Cluster-Mitglieder: \nDer Eintritt (7 €) entfällt! Schreibt uns einfach: \ninfo@cyber-security-cluster.eu\, um euren kostenfreien Eintrittscode zu erhalten. \nBuche hier dein Ticket
URL:https://cyber-security-cluster.eu/event/cyber-security-meetup-2/
LOCATION:Bonner Bogen – DigitalHub\, Rheinwerkallee 6\, Bonn\, NRW\, 53227\, Germany
ATTACH;FMTTYPE=image/jpeg:https://cyber-security-cluster.eu/wp-content/uploads/2026/01/cyber-meetup.jpeg
ORGANIZER;CN="DigitalHub":MAILTO:hello@digitalhub.de
END:VEVENT
BEGIN:VEVENT
DTSTART;VALUE=DATE:20260518
DTEND;VALUE=DATE:20260521
DTSTAMP:20260424T144010
CREATED:20260122T151633Z
LAST-MODIFIED:20260122T152339Z
UID:11699-1779062400-1779321599@cyber-security-cluster.eu
SUMMARY:IMI OT-Security Kongress
DESCRIPTION:Es wird passieren. Wieder. Beim IMI OT-Security Kongress der anapur AG treffen sich am 18.-20. Mai 2026 IT- und OT-Praktiker und Entscheider. Das Ziel: gute OT-Security auf den Weg bringen – für sichere und effiziente und zukunftsfähige Industrie und kritische Infrastruktur. \nOT-Security ist eine Herkulesaufgabe: zunehmende Bedrohungen\, Komplexität und regulatorische Anforderungen treffen auf begrenzte Ressourcen. \nWie können wir in diesem Spannungsfeld gute OT-Security machen und industrielle Produktion und kritische Infrastrukturen sicher und effizient [und zukunftsfähig] betreiben? \nBei IT meets Industry kommt geballte OT-Security-Expertise zusammen – bereits seit mehr als 10 Jahren! \nDer Kongresstag und zwei begleitende Deep Dive Workshops liefern Security Know-how auf dem neuesten Stand\, Praxis-Insights renommierter Anwender sowie lebendigen Austausch und Vernetzung von IT und OT\, Anwendern\, Herstellern und Behörden. \nhttps://www.it-meets-industry.de/de/ \nInteressierte können sich bis zum 13.01.2026 um 12:00 Uhr per E-Mail an „kommunikation@anapur.de“ mit dem Betreff „CSC_IMI“ für das Freiticket bewerben. Sie erhalten im Anschluss eine Rückmeldung und weitere Informationen mittels eines Gutscheincodes. \nFull details here: https://www.it-meets-industry.de/de/
URL:https://cyber-security-cluster.eu/event/imi-ot-security-kongress/
LOCATION:Mannheim\, Julius-Hatry-Straße 1\, Mannheim\, 68163\, Germany
ATTACH;FMTTYPE=image/png:https://cyber-security-cluster.eu/wp-content/uploads/2026/01/Screenshot-2026-01-22-at-16.17.27-e1769095374100.png
ORGANIZER;CN="anapur AG":MAILTO:kommunikation@anapur.de
END:VEVENT
END:VCALENDAR